BEGIN:VCALENDAR
VERSION:1.0
PRODID:Open2CKalenderExportV11
BEGIN:VEVENT
DTSTAMP:20180921T113721Z
DTSTART:20180922T180000Z
DTEND:20180922T193000Z
CATEGORIES:Jugend
SUMMARY;CHARSET=UTF-8:Kino-OpenAir auf dem Bürgerplatz
DESCRIPTION;CHARSET=UTF-8: Das Planet 'O' - Team veranstaltet erstmals auf dem Bürgerplatz ein Open-Air-Kino für alle bei freiem Eintritt: Gezeigt wird "Fasten auf Italienisch". Herzliche Einladung an alle - bitte gemütliche Sitzgelegenheit selber mit\ningen!  | Organisator   Jugendfreizeitstätte Planet 'O'
LOCATION;CHARSET=UTF-8:Bürgerplatz
UID:7d2c79903d270c1889256c6a9f946ee6-edf1f4ecc305312d2406681dc02e0c77
PRIORITY:3
END:VEVENT
END:VCALENDAR