BEGIN:VCALENDAR
VERSION:1.0
PRODID:Open2CKalenderExportV11
BEGIN:VEVENT
DTSTAMP:20180905T093927Z
DTSTART:20180913T173000Z
DTEND:20180913T173000Z
CATEGORIES:Vorträge
SUMMARY;CHARSET=UTF-8:AGENDA 21-Vortrag in der Stadtbibliothek Unterschleißheim: Ultrafeinstaub - die unsichtbare Gefahr
DESCRIPTION;CHARSET=UTF-8:Während Stickoxide und Feinstaub schon lange in der öffentlichen Diskussion stehen, wurde die Wirkung von Ultrafeinstaub in der Außenluft auf die menschliche Gesundheit bisher wenig erforscht. Dabei verhält sich Ultrafeinstaub, das sind ultrafeine Partikel (UFP) mit Partikeldurchmessern von weniger als 100 Nanometer, wegen seiner geringen Größe und Masse in der Luft ähnlich wie Gasmoleküle. Wegen ihrer geringen Größe können diese Partikel besonders tief in die menschliche Lunge eindringen und von dort sogar direkt in die menschliche Blutbahn gelangen - mit unüberschaubaren Auswirkungen auf die Gesundheit! | Organisator   BV Freising, BUND Naturschutz in Bayern e.V., Lokale Agenda 21 Oberschleißheim, Team Agenda 21 Stadt Unterschleißheim
LOCATION;CHARSET=UTF-8:Stadtbibliothek Unterschleißheim, Rathausplatz 1, 85716 Unterschleißheim
UID:2171a145974c57b8574a269a34d8e9b2-7615f507b3a59c505f6782579589026c
PRIORITY:3
END:VEVENT
END:VCALENDAR