BEGIN:VCALENDAR
VERSION:1.0
PRODID:Open2CKalenderExportV11
BEGIN:VEVENT
DTSTAMP:20180712T124744Z
DTSTART:20181006T080000Z
DTEND:20181006T080000Z
CATEGORIES:Veranstaltung
SUMMARY;CHARSET=UTF-8:Landschaftspflegeaktion im Moos gemeinsam mit BUND Naturschutz zwischen Schleißheim und Dachau
DESCRIPTION;CHARSET=UTF-8:Pflegemaßnahme Streuobstwiese und angrenzender Magerrasen südlich B471 mit BUND Naturschutz | Magerrasenflächen und Streuobstwiesen bieten der Tier- und Pflanzenwelt einen besonderen Rückzugsort, um sich entwickeln zu können. Doch diese  Flächen wollen behutsam und zur rechten Zeit gepflegt werden, damit sie nicht verbuschen und im Schatten von Sträuchern verschwinden. Dazu benötigen wir viele helfende Hände. | Werkzeug wird gestellt. Feste Kleidung und Schuhwerk sind erforderlich. Aktion für die ganze Familie. | Organisator   Lokale Agenda 21 - Projektgruppe Natur, BUND Naturschutz
LOCATION;CHARSET=UTF-8:Treffpunkt: Parkplatz am Kalterbachweg / Streuobstwiese
UID:028ee782505e053c086a109b1ec7aa83-59d011467ba561aaed3a53c46600a86e
PRIORITY:3
END:VEVENT
END:VCALENDAR