BEGIN:VCALENDAR
VERSION:1.0
PRODID:Open2CKalenderExportV11
BEGIN:VEVENT
DTSTAMP:20180712T123628Z
DTSTART:20181025T173000Z
DTEND:20181025T173000Z
CATEGORIES:Vorträge
SUMMARY;CHARSET=UTF-8:Ladestation für private Haushalte
DESCRIPTION;CHARSET=UTF-8: Referent: Dipl.-Ing. Tibor Szigeti, Ingenieurbüro S&amp;T |   | Die folgenden Schwerpunkte werden behandelt: |   |  | Ladestation für Neubau und Bestandgebäude | Anschlussanforderungen | Kosten | Förderprogramme |  | Organisator   Lokale Agenda 21 - Projektgruppe Energie und Klima
LOCATION;CHARSET=UTF-8:VHS Oberschleißheim, Raum 3, Prof.-Otto-Hupp-Str. 26c
UID:2d0fae78ef9a1faf42930b96ea5cdcb3-4543b584092cc8080bf1175203b3bc96
PRIORITY:3
END:VEVENT
END:VCALENDAR