BEGIN:VCALENDAR
VERSION:1.0
PRODID:Open2CKalenderExportV11
BEGIN:VEVENT
DTSTAMP:20180516T082449Z
DTSTART:20180706T170000Z
DTEND:20180706T180000Z
CATEGORIES:Verschiedenes
SUMMARY;CHARSET=UTF-8:COG-Theaterstück: "scenes of migration"
DESCRIPTION;CHARSET=UTF-8:  | Zwei Kontinente – eine Leidenschaft: Theater verbindet. |                                                                                           | Flucht und Fremdenhass – globale Abgründe: Biografien aus Somalia, Simbabwe, Afghanistan und Syrien |   |  22 Schüler*innen des Carl-Orff-Gymnasiums Unterschleißheim und der Eersterivier Secondary School nahe Kapstadt haben junge Geflüchtete zweier Kontinente befragt und im April 2017 in einem gemeinsamen zweiwöchigen Theatercamp in Südafrika das Theaterstück „scenes of migration“ erarbeitet, das verbindet: im gemeinsamen Entsetzen über die Internationalität von Fremdenhass, in gemeinschaftlicher Sorge um die Zukunft der einen Welt und im liebevollen Miteinanderumgehen in Tanz und Spiel. |   | Das vorwiegend englisch-sprachige Stück dauert ca. 60 Minuten und wird am | am 27. Juni in Haimhausen (Kulturkreiskneipe, Beginn 20 Uhr), | am 6. Juli in Unterschleißheim (Gleis 1, Beginn 19 Uhr) sowie | am 27./28 Juni 2018  im Münchner Volkstheater (für Schulklassen) zu sehen sein. |   | Kartenvorverkauf über theater.cog@live.de |   |   | Organisator   Carl-Orff-Gymnasium, Oberstufentheater | Kontakt   Herr Michael Blum, Michael.Blum@carl-orff-gym.de oder theater.cog@live.de
LOCATION;CHARSET=UTF-8:Jugendzentrum Gleis 1, Lohhof
UID:d8dbf3b5bf38dcd7cfa44b288c7bbd3e-cc78ca4c9f0a8803f934bc6a61a8ea75
PRIORITY:3
END:VEVENT
END:VCALENDAR