BEGIN:VCALENDAR
VERSION:1.0
PRODID:Open2CKalenderExportV11
BEGIN:VEVENT
DTSTAMP:20260422T090201Z
DTSTART:20260501T100000Z
DTEND:20260501T100000Z
CATEGORIES:Veranstaltung
SUMMARY;CHARSET=UTF-8:Maifeier
DESCRIPTION;CHARSET=UTF-8:Maifeier auf dem Bürgerplatz  ab 12 Uhr  |   | Maibaumwache ab 24. - 30.04.2026 am Vereinsheim |   | Maifeier am 1. Mai: | Umzug ab 11 Uhr mit dem Maibaum ab dem Vereinsheim - anschließend Maibaum-Aufstellen am Bürgerplatz |   | Die Gemeinde Oberschleißheim, der Burschenverein mit Deandlgruppn Oberschleißheim, der Trachtenverein Birkenstoana Stamm Oberschleißheim und Remonte Bräu Schleißheim eG, laden alle herzlich zur traditionellen Maifeier auf dem Bürgerplatz ein. Wir freuen uns sehr darauf, mit euch einen schönen Tag voller Brauchtum, Musik und guter Stimmung zu ver\ningen! |   | Organisator   Gemeinde Oberschleißheim, Trachtenverein Birkenstoana Stamm Oberschleißheim, Burschenverein mit Deandlgruppn, Remonte Bräu Schleißheim
LOCATION;CHARSET=UTF-8:Bürgerplatz
UID:fc04769c39d8928d567855763186786b-98fa342eb144f5ee9ed96604769d37fd
PRIORITY:3
END:VEVENT
BEGIN:VEVENT
DTSTAMP:20260107T200834Z
DTSTART:20260507T173000Z
DTEND:20260507T203000Z
CATEGORIES:Konzerte allgemein
SUMMARY;CHARSET=UTF-8:Quartett „Das gibt’s nur einmal“, 7. Mai, 19:30 Uhr
DESCRIPTION;CHARSET=UTF-8:7.Mai 19:30 Uhr Schreiner Konferenzzentrum C3, Mittenheimerstr. 62, OSH |    | „Sie kennen mich nicht, aber Sie haben viel von mir gehört“, pflegte Werner Richard Heymann zu sagen. Tatsächlich ist der vor über 60 Jahren gestorbene deutsch-jüdische Komponist kaum mehr präsent – ganz im Gegensatz zu seinen Songs wie „Ein Freund, ein guter Freund“ oder „Irgendwo auf der Welt“. |   | Das junge Ensemble der Sängerin Fernanda von Sachsen und der Pianistin Marina Schlagintweit mit Maximilian Hirning am Bass und Tilman Al\necht am Schlagzeug erinnert mit \nillanten Arrangements und humorvollen Anekdoten an das bewegte Leben Heymanns, der im pulsierenden Berlin der Zwanzigerjahre die aufblühende Kabarettszene mitprägte und als Generalmusikdirektor der UFA das Genre der Tonfilm-Operette begründete. Als jüdischer Emigrant nach 1933 machte er auch in Hollywood als Filmkomponist mit vier Oscarnominierungen Karriere. Heymanns Songs, die einst die goldenen Leinwände erfüllten, finden nun durch das innovative Duo begleitet von einem groovenden Bass und lebendigem Schlagzeug einen Weg zurück auf die Bühne - und das in einem völlig neuen Licht. Charmant und virtuos entführen Fernanda von Sachsen und Marina Schlagintweit mit ihren modernen Interpretationen in eine Welt, in der die Vergangenheit auf die Gegenwart trifft und die zeigt, wie zeitlos Heymanns Musik ist. |   | Fernanda von Sachsen ist eine junge Münchner Jazz Sängerin und Komponistin. Ihr ist es wichtig ihrer Meinung und ihren Gefühlen durch ihre Stücke eine Stimme zu verleihen. 2025 erhielt sie für ihre Arbeit den Bayerischen Kunstförderpreis, sowie den Kurt Maas Jazz Award und ist aktuell Finalisten des jungen Münchner Jazzpreises. Ihre Kompositionen (bsp.: Would you say the same if I were a man?) wurden 2024 beim Kulturkreis Gasteig Musikpreis ausgezeichnet. Sie spielte bereits in mehreren Ländern Europas, sowie in Brasilien und Südkorea. Bspw.: Int. Jazzwoche Burghausen, Jazzclub Unterfahrt, BPAM-Festival (Korea), Jazzfestival Craiova (Rumänien). |   |  Marina Schlagintweit (1992) ist eine Jazzpianistin und Komponistin, die seit zwei Jahren in der Leipziger Musikszene in mehreren Projekten künstlerisch neue Wege geht. Neben dem Quartett „Das Gibt’s nur einmal“ und dem Duo „SchlagRechtWeit“ spielt und komponiert sie für das neunköpfige Marina Schlagintweit Large Ensemble, das auf den Leipziger Jazztagen 2024 sein Debüt hatte. Sie gewann den Jutta-Hipp-Preis des Jazzverband Sachsens in der Kategorie Komposition sowie den BMW Young Artist Jazz Award. Zunächst studierte sie zeitgenössische Komposition in Detmold(NRW), bevor sie ein Stipendium für eine artist-residency in der Cité des Arts Paris erhielt und im Anschluss ihr Studium in Jazzklavier und Jazzkomposition in München absolvierte. |   | Tilman Al\necht studierte von 2013 bis 2019 Musik und Mathematik für das Lehramt in Leipzig. Ein Stipendium der Studienstiftung des Deutschen Volkes ermöglichte ihm ein Auslandsjahr am Saint Louis College of Music in Rom. Von 2019 bis 2023 studierte er an der Hochschule für Musik München Jazz-Schlagzeug u.a. bei Bastian Jütte und Christian Lettner im Hauptfach und bei Carlos Veras im klassischen Nebenfach. Seit 2023 unterrichtet er Schlagzeug und Schlagwerk an der Städtischen Musikschule Wolfratshausen und ist mit verschiedenen musikalischen Projekten in München und Leipzig aktiv. |   | Maximilian Hirning studierte zunächst klassischen Kontrabass an der HMT Rostock, bevor er sein Studium im Fach Jazz-Kontrabass bei Henning Sieverts an der Hochschule für Musik und Theater München absolvierte. Er arbeitet als freischaffender Bassist und Komponist im Bereich Free Jazz, analoge Techno-Musik und Punk. Mit seinem Klaviertrio LBT und dem von ihm komponierten Technoprogramm „Way up in the blue“ gewann er 2018 das Finale des BMW Welt Jazz Award und den Nachwuchs-Jazzpreis der Jazzwoche Burghausen |   | Ort: Schreiner Konferenzzentrum C3, Mittenheimerstr. 62, OSH | Einlass: 18:30 Uhr. VVK Karten: 20,-/16,-€. AK: 24,-/19,-€ (zzgl. VVK-Gebühren). Reihenbestuhlung. VVK über www.münchenticket.de oder Schreibwaren am Schloss und Gemeindebücherei. | Veranstalter: Gemeinde Oberschleißheim, Kulturteam |   | Organisator   Gemeinde Oberschleißheim, Kulturteam | Kontakt   Organisation, Presse, Werbung | Gaby Hohenberger, Tel.: 089/ 3154175 | Tickets, Abendkasse, Homepage | Kulturteam Oberschleißheim | kultur@oberschleissheim.de
LOCATION;CHARSET=UTF-8:Schreiner Konferenzzentrum C3, Mittenheimerstr. 62, Oberschleißheim
UID:d3de9a2fe3c9414a525fe8ac3c3109c0-70a2adeeb7ebf5a8ac77aabadef1da29
PRIORITY:3
END:VEVENT
BEGIN:VEVENT
DTSTAMP:20260422T103748Z
DTSTART:20260512T220000Z
DTEND:20260512T220000Z
CATEGORIES:Verschiedenes
SUMMARY;CHARSET=UTF-8:Oberschleißheimer Volksfest 2026
DESCRIPTION;CHARSET=UTF-8:Die Vorfreude steigt: Von Mittwoch, 13. Mai, bis Sonntag, 17. Mai, lädt die Gemeinde wieder herzlich zum Volksfest Oberschleißheim ein. Besonders erfreulich: In diesem Jahr findet das Volksfest wieder im angestammten Zeitraum rund um Christi Himmelfahrt statt – so wie es viele Bürgerinnen und Bürger aus früheren Jahren kennen und schätzen. |   | Den Auftakt bildet am Mittwoch, 13. Mai, der traditionelle Festumzug mit den Ortsvereinen und der Blaskapelle durch den Ort mit anschließendem Einzug ins Festzelt. Dort eröffnet der Erste Bürgermeister Markus Böck das Volksfest mit dem feierlichen Anstich des ersten Fasses.  |   | Am Donnerstag (Christi Himmelfahrt) erwartet die Besucherinnen und Besucher ein besonderes Vatertagsspecial. |   | Der Freitag beginnt mit einem gemütlichen Seniorennachmittag, bevor am Abend beim Tag der Firmen und Behörden mit einer Partyband gemeinsam gefeiert wird. |   | Der Samstag steht ganz im Zeichen des Tags der Vereine – mit viel Stimmung, Musik und einer Partyband, die für beste Unterhaltung sorgt. | Den Abschluss bildet der Sonntag mit einem Zeltgottesdienst und musikalischer Begleitung durch die Blaskapelle. | Als besonderes Highlight folgt anschließend die dritte Ausgabe der beliebten Bierzeltolympiade. Moderiert wird der unterhaltsame Wettbewerb von Lokalmatador Michi Dietmayr, der mit viel Humor und Musik durch die Spiele führen wird – beste Stimmung im Festzelt ist damit garantiert. |   | Die Gemeinde freut sich sehr, das Volksfest gemeinsam mit den Mitveranstaltern Phönix Schleißheim und RSV Schleißheim, Festwirt Robert Schmidt sowie der Remonte Bräu Schleißheim auf die Beine zu stellen. | Freuen Sie sich auf fünf Tage voller Tradition, Musik, Geselligkeit und guter Stimmung – wir freuen uns auf Ihren Besuch!
LOCATION;CHARSET=UTF-8:
UID:16b3c95d2579de4560aba7ef4e3c4499-c9a588f5bf7f8f0d99a6e42d989adf7d
PRIORITY:3
END:VEVENT
END:VCALENDAR