BEGIN:VCALENDAR
VERSION:1.0
PRODID:Open2CKalenderExportV11
BEGIN:VEVENT
DTSTAMP:20260424T153011Z
DTSTART:20261017T080000Z
DTEND:20261017T120000Z
CATEGORIES:Verschiedenes
SUMMARY;CHARSET=UTF-8:Mahd der Orchideenwiese am Schwarzhölzl
DESCRIPTION;CHARSET=UTF-8: | Organisator   BUND Naturschutz Schleißheim,
LOCATION;CHARSET=UTF-8:Parkplatz am Kalterbachweg / Streuobstwiese
UID:06988d8a8b8f9b0ee587444c51d19e21-de845177c05e04afc52e2b3e05261b89
PRIORITY:3
END:VEVENT
END:VCALENDAR