BEGIN:VCALENDAR
VERSION:1.0
PRODID:Open2CKalenderExportV11
BEGIN:VEVENT
DTSTAMP:20260415T183502Z
DTSTART:20260925T180000Z
DTEND:20260925T210000Z
CATEGORIES:Konzerte allgemein
SUMMARY;CHARSET=UTF-8:Abdelkarim  -  „Plan Z - jetzt will er´s wissen!“,  !! Verschoben!! 25. September, 20:00 Uhr
DESCRIPTION;CHARSET=UTF-8:!! Verschoben!! 25. September, 20:00 Uhr Saal im Bürgerhaus Obeschleißheim  |    | Muss man Lebensträume, die einfach nicht wahr werden wollen, irgendwann auch mal loslassen? Realistisch betrachtet ja, aber mit sowas wie Realismus hält sich Abdelkarim zum Glück nicht lange auf. Mit seinem neuen Programm "Plan Z" zeigt er uns, dass das Alphabet nicht ohne Grund ganze 26 Buchstaben hat. Da, wo Plan B kläglich scheitert, läuft sich Plan Z erst langsam warm. Vom Sixpack in Expresszeit bis zum Weltfrieden für alle: Wenn sich Abdelkarim unserer Probleme annimmt, scheint alles möglich, sogar für ihn. Der oft absurde Alltag mit seinen kleinen und großen Baustellen, die wir alle in den Griff kriegen wollen, wird aufmerksam unter die Lupe genommen. Dabei legt die marokkanische Friedenstaube den Finger in die Wunde, aber sie hat auch Pflaster dabei. 26 Stück. Ist das jetzt Comedy oder Kabarett? Ganz ehrlich, wir wissen es nicht, aber es ist vor allem lustig, ehrlich, gewohnt subtil und wenn es sein muss, auch mal voll auf die 12. | "Plan Z" ist Abdelkarims viertes, abendfüllendes Soloprogramm, Start Oktober 2024. Seine letzte Tour war vielerorts frühzeitig ausverkauft. Daher jetzt schnell Tickets sichern! | Abdelkarim ist beliebter Stammgast im TV: heute-show, Die Anstalt, Nuhr im Ersten, Amazons Lol, Let´s Dance, u.v.m.. Seine Internet-Clips wie "Ok Ciao - Hallo?" gingen millionenfach viral. | Der gebürtige Bielefelder und Wahl-Duisburger wurde vielfach ausgezeichnet, u.a. mit dem Deutschen Fernsehpreis, der goldenen Kamera, dem bayerischen Kabarettpreis und dem Jurypreis des Kleinkunstfestivals der Wühlmäuse. |   |   | Ort: Bürgerzentrum Oberschleißheim | VVK:28,-€ Erm.: 23,-€. AK:30,-€; Erm.:25,-€.; (zzgl. VVK-Gebühren). | Einlass: 19:00 Uhr. Reihenbestuhlung. VVK über www.muenchenticket.de oder Schreibwaren am Schloss und Gemeindebücherei. | Veranstalter: Kulturteam Gemeinde Oberschleißheim |   | Organisator   Gemeinde Oberschleißheim, Kulturteam | Kontakt   Organisation, Presse, Werbung | Gaby Hohenberger, Tel.: 089/ 3154175 | Tickets, Abendkasse, Homepage | Kulturteam Oberschleißheim | kultur@oberschleissheim.de
LOCATION;CHARSET=UTF-8:Saal im Bürgerzentrum Oberschleißheim
UID:49bbe0ad8b39f0b3b4f3e0d1ae0820f2-17be159e9cc9bd79f87c5a8fac699212
PRIORITY:3
END:VEVENT
END:VCALENDAR