BEGIN:VCALENDAR
VERSION:1.0
PRODID:Open2CKalenderExportV11
BEGIN:VEVENT
DTSTAMP:20251020T220000Z
DTSTART:20260305T180000Z
DTEND:20260305T203000Z
CATEGORIES:
URL:http://www.schleissheimer-tauschring.de
SUMMARY;CHARSET=UTF-8:Schleißheimer Tauschring
DESCRIPTION;CHARSET=UTF-8:Tauschring für Ober- und Unterschleißheim Für die Schleißheimer gibt es einen lokalen Tauschring. Hier werden bargeldlos Dienstleistungen getauscht, wie es sonst unter Freunden üblich ist. |   | Können Sie z.B.: |  | weißeln und renovieren, | bügeln, | Nachhilfe geben, | gut kochen, | PC-Hilfe leisten oder | Elektrogeräte reparieren? |  | Suchen Sie jemanden z.B.: |  | zum Autofahren oder -waschen, | zur Gartenpflege, | zum Vorlesen, | zum Feste organisieren, | zum Plätzchen backen oder | als Baby- oder Tiersitter? |  | Dann sind Sie im TAUSCHRING herzlich willkommen! | Durch einen Tauschring werden Menschen ermutigt, ihre Fähigkeiten für andere einzusetzen. Tauschringe geben Selbstvertrauen und schaffen Freundschaften. Machen Sie etwas, das Ihnen Spaß macht. Entdecken Sie Ihre kreativen Fähigkeiten! | Ein Tauschring lebt von der Anzahl und den Ideen seiner Mitglieder. Je mehr Mitglieder, desto vielfältiger sind die Angebote und Gesuche. Machen auch SIE mit! | Organisator   Schleißheimer Tauschring | http://www.schleissheimer-tauschring.de | Kontakt   Ansprechpartner: Helga Bauer Tel.: 089 - 315 53 46 | info@schleissheimer-tauschring.de
LOCATION;CHARSET=UTF-8:Quartiersladen "WIR" der Sozialen Stadt Parksiedlung, Am Stutenanger 6, 85764 Oberschleißheim
UID:29885b92bf328c64fcab859c0d498214-7561fd385fd9b547d2c38d057f25cee5
PRIORITY:3
END:VEVENT
END:VCALENDAR