BEGIN:VCALENDAR
VERSION:1.0
PRODID:Open2CKalenderExportV11
BEGIN:VEVENT
DTSTAMP:20250624T091616Z
DTSTART:20250704T170000Z
DTEND:20250704T170000Z
CATEGORIES:Konzerte allgemein
SUMMARY;CHARSET=UTF-8:Feierabendmarkt
DESCRIPTION;CHARSET=UTF-8:Feierabendmarkt mit „Funkverkehr“: Die fünf symphathischen Vollblutmusiker: Markus (Main Vocals); Michi (Drums); Sepp (Gitarre); Flo (Gitarre, Vocals) und Philipp (Bass, Vocals), spielen mit Leidenschaft, die man spürt. Ob Rock, Schlager, Austro-Pop oder beliebte Tanz-Songs, bei ihnen ist querbeet für jeden etwas dabei- egal, ob jung oder alt. Funkverkehr covert die besten Songs. | Eintritt frei! |  
LOCATION;CHARSET=UTF-8:Bürgerplatz Oberschleißheim
UID:b13079ae291a4d5819253a338f47602e-98baa3ca7e9f53ab3ec6f9197436a526
PRIORITY:3
END:VEVENT
BEGIN:VEVENT
DTSTAMP:20250702T085248Z
DTSTART:20250709T150000Z
DTEND:20250709T150000Z
CATEGORIES:Konzerte allgemein
URL:https://www.vhsosh.de/programm/instrumental-unterricht#inhalt
SUMMARY;CHARSET=UTF-8:1. Vorspielabend der Instrumentalschüler*innen
DESCRIPTION;CHARSET=UTF-8:Vorspielabend der jungen Instrumentalschüler*innen.  | Der Eintritt ist frei, Spenden sind willkommen. |   | Organisator   VHS Oberschleißheim | Kontakt   kontakt@vhsosh.de | musik@vhsosh.de | 089 / 315 38 06
LOCATION;CHARSET=UTF-8:Bürgerhaus Oberschleißheim
UID:b072c44fed687cd4ed5994d009a36021-383f75aad95ab8b5aa0dcc89e215bf7b
PRIORITY:3
END:VEVENT
BEGIN:VEVENT
DTSTAMP:20250625T074431Z
DTSTART:20250711T133000Z
DTEND:20250711T133000Z
CATEGORIES:Verschiedenes
SUMMARY;CHARSET=UTF-8:Stadtradeln - Sternfahrt der NordAllianz
DESCRIPTION;CHARSET=UTF-8:Auf zur beliebten Radtour mit dem Bürgermeister: Alle acht Kommunen radeln im Rahmen des Stadtradelns bei einer Mitmach-Tour für alle mit Teams in eine der NordAllianz-Gemeinden. Heuer ist Zielgemeinde Unterschleißheim; Eintreffen dort 17 Uhr im Restaurant Waldblick im Sportpark. |   | Die Oberschleißheimer Radler treffen sich um 16 Uhr am Bürgerplatz. | Wir freuen uns über alle, die mitradeln!  | Organisator   Gemeinde Oberschleißheim
LOCATION;CHARSET=UTF-8:Treffpunkt Bürgerplatz
UID:dfd41a4b6fbc8c5babcd2eb1cd2c9ba1-ecad9cefdd615ae24469861e4898f3a3
PRIORITY:3
END:VEVENT
BEGIN:VEVENT
DTSTAMP:20250702T085327Z
DTSTART:20250716T170000Z
DTEND:20250716T170000Z
CATEGORIES:Konzerte allgemein
SUMMARY;CHARSET=UTF-8:2. Vorspielabend der VHS Instrumentalschüler*innen
DESCRIPTION;CHARSET=UTF-8:Vorspielabend der fortgeschrittenen Instrumentalschüler*innen und der VHS-Band. | Der Eintritt ist frei, Spenden sind willkommen. | Organisator   VHS Oberschleißheim | Kontakt   musik@vhsosh.de | 089 / 315 38 06
LOCATION;CHARSET=UTF-8:Bürgerhaus Oberschleißheim
UID:f3d03cc1aeda2d763feeaf62dce9567e-24a20e5a82c1302464e02c39ed53a07a
PRIORITY:3
END:VEVENT
BEGIN:VEVENT
DTSTAMP:20250716T100638Z
DTSTART:20250719T083000Z
DTEND:20250719T083000Z
CATEGORIES:Verschiedenes
SUMMARY;CHARSET=UTF-8:Pueri Cantores - Internationales Kinder- und Jugendchorfestival - Regionaltag in Oberschleißheim
DESCRIPTION;CHARSET=UTF-8:Cantate Domino – Vielstimmig für den Frieden |   | Ein besonderer Tag der Begegnung erwartet Oberschleißheim am Samstag, den 19. Juli 2025, wenn sich rund 400 junge Sängerinnen und Sänger zu einem vielfältigen Programm aus Musik, Tanz, Spiel und Gebet versammeln. |   | Mehr als zehn Kinder- und Jugendchöre aus dem In- und Ausland kommen im Rahmen des internationalen Chorfestivals der Pueri Cantores (16. bis 20. Juli 2025 in München) nach Oberschleißheim. | Mit dabei sind auch Kinder- und Jugendchöre aus Oberschleißheim (Pfarrverband Oberschleißheim) und Unterschleißheim (St. Ulrich und St. Korbinian). |   | Zuhörer und Gäste sind herzlich eingeladen zu folgenden Programmpunkten: |   | ???? 10:30 – 11:30 Uhr Klingendes Schloss  | Neues Schloss Schleißheim (Eintrittskarte erforderlich) | Mehrere Chöre präsentieren Standkonzerte in den historischen Räumen des Schlosses – eine einmalige Gelegenheit zum musikalischen Lustwandeln und Lauschen. |   | ???? 13:00 – 14:15 Uhr Tanzbodenlust  | Bürgerplatz Oberschleißheim | Tanzmeisterin Veronika Schweikl lädt Groß und Klein zum Volkstanz für alle ein. | Es sind keine Vorkenntnisse erforderlich - einfach vorbeikommen und mittanzen! | Bei schlechtem Wetter findet die Tanzbodenlust in St. Wilhelm statt. |   | ???? 14:30 – 15:15 Uhr Sing together | Bürgerhaus Oberschleißheim | Beim Offenen Singen erklingen alle Chöre gemeinsam und laden zum Mitsingen oder Zuhören ein. |   | ???? 15:30 – 16:00 Uhr Friedensgebet | St. Wilhelm | Ein musikalisch gestaltetes Friedensgebet bildet den feierlichen Abschluss dieses besonderen Tages. |   |   | Iris Vogel | (Kirchenmusikerin Pfarrverband Oberschleißheim) | Organisator   Pueri Cantores
LOCATION;CHARSET=UTF-8:Schloß - Bürgerplatz - Bürgersaal
UID:a5a7ee41a4f1effa7e6abc8f88dddead-c7f52849a47bd80db94889fc59ad9f3f
PRIORITY:3
END:VEVENT
BEGIN:VEVENT
DTSTAMP:20250618T084927Z
DTSTART:20250727T080000Z
DTEND:20250727T080000Z
CATEGORIES:Verschiedenes
SUMMARY;CHARSET=UTF-8:Schäferfest
DESCRIPTION;CHARSET=UTF-8:Sonntag, 27.07.2025 von 10:00 bis 16:00 Uhr auf dem Gut Hochmuttting  |   | Auf dem Schäferfest dreht sich alles rund ums Schaf: es gibt Vorführungen im Hüten und im Scheren, Schafrassen werden vorgestellt und die schönsten Böcke prämiert. Von Schafmilchseife über Filzpantoffeln bis hin zu Lammfleisch ist hier alles zu finden. Ebenso gibt es wieder eine Tombola des Fördervereins Jakobuskapelle, einen Infostand des Heideflächenvereins sowie viele weitere Angebote auch für Familien.  | Organisator   Verband der oberbayerischer Schafhalter
LOCATION;CHARSET=UTF-8:Hochmutting 1
UID:22a6b012473a28e88e90e91730650eb3-833c0951cb5d45e0e9a6208ddd3ed6d6
PRIORITY:3
END:VEVENT
END:VCALENDAR