BEGIN:VCALENDAR
VERSION:1.0
PRODID:Open2CKalenderExportV11
BEGIN:VEVENT
DTSTAMP:20250221T230000Z
DTSTART:20251211T180000Z
DTEND:20251211T203000Z
CATEGORIES:
URL:http://www.schleissheimer-tauschring.de
SUMMARY;CHARSET=UTF-8:Treffen des Schleissheimer Tauschrings
DESCRIPTION;CHARSET=UTF-8:Schleissheimer Tauschring SHT  | Tauschring in Ober- und Unterschleißheim Für die Schleißheimer gibt es einen lokalen Tauschring. Hier werden bargeldlos Dienstleistungen getauscht, wie es sonst unter Freunden üblich ist. |   | Können Sie z.B.: |  | weißeln und renovieren, | bügeln, | Nachhilfe geben, | gut kochen, | PC-Hilfe leisten oder | Elektrogeräte reparieren? |  | Suchen Sie jemanden z.B.: |  | zum Autofahren oder -waschen, | zur Gartenpflege, | zum Vorlesen, | zum Feste organisieren, | zum Plätzchen backen oder | als Baby- oder Tiersitter? |  | Dann sind Sie im TAUSCHRING herzlich willkommen! | Durch einen Tauschring werden Menschen ermutigt, ihre Fähigkeiten für andere einzusetzen. Tauschringe geben Selbstvertrauen und schaffen Freundschaften. Machen Sie etwas, das Ihnen Spaß macht. Entdecken Sie Ihre kreativen Fähigkeiten! |   | Ein Tauschring lebt von der Anzahl und den Ideen seiner Mitglieder. Je mehr Mitglieder, desto vielfältiger sind die Angebote und Gesuche. Machen auch SIE mit! Ansprechpartner: Peter Krell Tel.: 089 - 317 31 67 www.schleissheimer-tauschring.de |   | Organisator   Schleissheimer Tauschring | Kontakt   Ansprechpartner: Peter Krell Tel.: 089 - 317 31 67
LOCATION;CHARSET=UTF-8:Quartiersladen "WIR" der Sozialen Stadt Parksiedlung, Am Stutenanger 6, 85764 Oberschleissheim
UID:b497911680cc0c546350808afbc276d9-a5da47127044450e04896c515e9ef633
PRIORITY:3
END:VEVENT
END:VCALENDAR