BEGIN:VCALENDAR
VERSION:1.0
PRODID:Open2CKalenderExportV11
BEGIN:VEVENT
DTSTAMP:20240712T195346Z
DTSTART:20240714T090000Z
DTEND:20240714T090000Z
CATEGORIES:Märkte
SUMMARY;CHARSET=UTF-8:Dahoam im Landkreis München
DESCRIPTION;CHARSET=UTF-8:Bunter Markt und Programm für die ganze Familie von Vereinen, Institutionen und Ausstellern aus dem ganzen Landkreis München. | https://www.landkreis-muenchen.de/themen/freizeit-kultur-sport/kultur/kulturveranstaltungen/dahoam-im-landkreis-muenchen/ | Organisator   Landkreis München
LOCATION;CHARSET=UTF-8:Bürgerplatz Oberschleißheim
UID:d51d2fcd51f2c836a0a3b0754120230b-2e8b8def4f30ae95da6d2b0544d6a8ed
PRIORITY:3
END:VEVENT
END:VCALENDAR