BEGIN:VCALENDAR
VERSION:1.0
PRODID:Open2CKalenderExportV11
BEGIN:VEVENT
DTSTAMP:20240516T084418Z
DTSTART:20240626T150000Z
DTEND:20240626T150000Z
CATEGORIES:Konzerte allgemein
SUMMARY;CHARSET=UTF-8:Vorspielabende der VHS Instrumentalabteilung am 26.06. und 03.07.2024
DESCRIPTION;CHARSET=UTF-8:Die Instrumentalabteilung der VHS Oberschleißheim lädt alle Musikliebhaber zu den inzwischen traditionell gewordenen Sommervorspielabenden am 26.06.24 ab 17:00 Uhr und am 03.07.24 ab 19:00 Uhr im Bürgerzentrum ein. Alle talentierten Schülerinnen und Schüler, die regelmäßig Instrumental- oder Gesangsunterricht nehmen und sich einen Bühnenauftritt zutrauen, präsentieren dem Publikum unterschiedliche Stücke je nach Können und Niveau. Gemeinsam mit den engagierten Musiklehrern haben sie ein buntes Programm aus dem Gelernten zusammengestellt und würden sich über zahlreiches Erscheinen sehr freuen. | Der Eintritt ist frei, Spenden sind willkommen. |   | Wir freuen uns auf schöne musikalische Abende mit Ihnen! | Organisator   VHS Oberschleißheim -Instrumentalabteilung
LOCATION;CHARSET=UTF-8:Bürgersaal Oberschleißheim
UID:31a2d018ee73e574513fb9a411cca1d7-ef6ae56c84531de27bdefa23b703090d
PRIORITY:3
END:VEVENT
END:VCALENDAR