BEGIN:VCALENDAR
VERSION:1.0
PRODID:Open2CKalenderExportV11
BEGIN:VEVENT
DTSTAMP:20240405T082419Z
DTSTART:20240508T150000Z
DTEND:20240508T150000Z
CATEGORIES:Vorträge
SUMMARY;CHARSET=UTF-8:Das kleine Kraftwerk auf dem Balkon: Online-Basis-Beratung zu Steckersolaranlagen
DESCRIPTION;CHARSET=UTF-8:Eigener Solarstrom ist nicht nur Hausbesitzerinnen und -besitzern vorbehalten – auch Menschen, die zur Miete wohnen oder über eine Eigentumswohnung verfügen, können zum Beispiel auf ihrem Balkon, auf der Terrasse, auf einem Garagendach oder an der Hauswand kleineSonnenkraftwerke betreiben. Dadurch lässt sich die Stromrechnung senken und der Autarkiegrad erhöhen.Wie das funktioniert, warum es sich lohnt und was dabei zu beachten ist, erläutert und diskutiert Energieberater Tobias Sassmann von der Energieagentur Ebersberg-München gGmbH am Mittwoch, 8. Mai, ab 17 Uhr bei der Online-Basis-Beratung „Balkonkraftwerke – einstecken,Solarstrom ernten!“   | Die Teilnahme ist kostenfrei, die Anmeldung möglich unter: www.energieagentur-ebe-m.de/termine | Organisator   Energieagentur Ebersberg
LOCATION;CHARSET=UTF-8:Online
UID:15c7db9b860d1cecbc7c68a0513dc761-13d88fa55b1574e12f69ccf0c4308ed1
PRIORITY:3
END:VEVENT
END:VCALENDAR