BEGIN:VCALENDAR
VERSION:1.0
PRODID:Open2CKalenderExportV11
BEGIN:VEVENT
DTSTAMP:20240313T133331Z
DTSTART:20240606T173000Z
DTEND:20240606T190000Z
CATEGORIES:Veranstaltung der VHS
URL:https://www.vhsosh.de/kurssuche/kurs/Vortrag-Zuverlaessige-und-preiswerte-Stromversorgung-durch-Photovoltaik/241A361#inhalt
SUMMARY;CHARSET=UTF-8:Vortrag: Zuverlässige und preiswerte Stromversorgung durch Photovoltaik und Speicher
DESCRIPTION;CHARSET=UTF-8:Selbst erzeugte regenerative Energie in der Kombination von Photovoltaik mit einem Speicher ermöglicht im Eigenheim einen hohen Autarkiegrad (Eigenver-\nauchsanteil) und kann Strompreissteigerungen abmildern. Manche Systeme sind sogar in der Lage, bei Störungen im Stromnetz den Betrieb sicher fortzuführen, was auch mit Balkonsolaranlagen umsetzbar ist. | Infolge der gestiegenen Strompreise profitieren Großver\naucher wie Elektrofahrzeuge und Wärmepumpen mehr denn je von der selbst erzeugten elektrischen Energie. Der Vortrag erläutert zudem Förderprogramme und stellt Faustregeln zur Dimensionierung vor; etwa für hohe Wirtschaftlichkeit oder größtmögliche Autarkie. |   | Referent: Alfred Bäder, Energieberater (HWK), Dipl.-Ing. Elektrotechnik (TU) |   | Vortrag kostenfrei, Anmeldung erforderlich: anmeldung@vhsosh.de, bzw. Tel. 089/3153806 |   |   |   | Organisator   Lokale Agenda 21 - PG Energie und Klima, VHS Oberschleißheim | Kontakt   Anmeldung unter: 089/3153806 bzw. anmeldung@vhsosh.de
LOCATION;CHARSET=UTF-8:VHS Oberschleißheim, Prof.-Otto-Hupp-Str. 26c, Raum 3
UID:373a3bcd09563747c412063bf8536d2f-44e6d16e9f172340926bea5e8ac5345b
PRIORITY:3
END:VEVENT
END:VCALENDAR