BEGIN:VCALENDAR
VERSION:1.0
PRODID:Open2CKalenderExportV11
BEGIN:VEVENT
DTSTAMP:20240216T114932Z
DTSTART:20240614T150000Z
DTEND:20240614T180000Z
CATEGORIES:Führungen
SUMMARY;CHARSET=UTF-8:Fahrradtour „Natur und Kultur im Süden von Schloss Schleißheim“
DESCRIPTION;CHARSET=UTF-8:Südlich der Schlossanlagen von Oberschleißheim ist die Landschaft von Ackerland, Magerrasen und Wäldern geprägt. | Der Biologe und ehemalige Umweltbeauftragte der Gemeinde Oberschleißheim, Werner Becker, wird uns bei einer Radtour zwischen Oberschleißheim und der nördlichen Stadtgrenze Münchens die Verknüpfungen zwischen älterer und jüngerer Geschichte sowie der reichen Naturausstattung erläutern. Bitte dem Wetter angepasste Kleidung mit\ningen. | Dauer: ca. 2-3 Stunden. | Bei sehr schlechtem Wetter Ausweichtermin 21.06.2024. |   |   | Organisator   Agenda 21 PG Natur
LOCATION;CHARSET=UTF-8:Treffpunkt: Altes Schloss (Museumseingang)
UID:74d09b7972c57af68104a470081e4241-905b2c787d7dea2a10543426ce4e3066
PRIORITY:3
END:VEVENT
END:VCALENDAR