BEGIN:VCALENDAR
VERSION:1.0
PRODID:Open2CKalenderExportV11
BEGIN:VEVENT
DTSTAMP:20240216T105114Z
DTSTART:20240316T080000Z
DTEND:20240316T110000Z
CATEGORIES:Veranstaltung
SUMMARY;CHARSET=UTF-8:Ramadama: Frühjahrsputz in Oberschleißheim
DESCRIPTION;CHARSET=UTF-8:Wir machen wieder Frühjahrsputz in Oberschleißheim. Am Samstag, den 16. März 2024 findet wieder ein „Ramadama“ im Gemeindegebiet statt. | Die Gemeinde Oberschleißheim würde sich freuen, wenn das große Saubermachen in Feld und Flur von möglichst vielen Bürgerinnen und Bürgern unterstützt würde. |   | Treffpunkt ist um 9.00 Uhr am Bürgerzentrum. Die organisatorische Abwicklung, die Zuordnung der Sammelbereiche und Bereitstellung von Geräten erfolgt vor Ort. Gartenhandschuhe und Arbeitskleidung bitte mit\ningen. Fahrzeuge, zumindest Fahrräder, sind wegen der entfernten Lage mancher Einsatzgebiete erwünscht. Die Aktion findet nur bei Dauerregen nicht statt. Selbstverständlich gibt es im Anschluss eine zünftige Brotzeit für die kleinen und großen Helfer! |   | Das diesjährige Ramadama ist eine gemeinsame Aktion mit der Agenda 21-Projektgruppe Natur und dem BUND Naturschutz Schleißheim, die rund um den Mallertshofer See sammeln werden. Treffpunkt ist um 10:00 Uhr an der Schranke am Eingang zur Heide (Ecke B13/Staatsstraße nach Eching, gegenüber der Total-Tankstelle). | Organisator   Gemeinde, Agenda 21-PG Natur, BUND Naturschutz Schleißheim
LOCATION;CHARSET=UTF-8:Bürgerzentrum / Mallertshofer See
UID:6193a6dbd47691147c0e3712a7a179cc-a5588fb31f7861950c00f99369d7252e
PRIORITY:3
END:VEVENT
END:VCALENDAR