BEGIN:VCALENDAR
VERSION:1.0
PRODID:Open2CKalenderExportV11
BEGIN:VEVENT
DTSTAMP:20230217T084245Z
DTSTART:20230325T083000Z
DTEND:20230325T083000Z
CATEGORIES:Veranstaltung
SUMMARY;CHARSET=UTF-8:Ramadama 2023
DESCRIPTION;CHARSET=UTF-8:Am Samstag, dem 25. März 2023 findet ein „Ramadama“ im Gemeindegebiet statt. | Die Gemeinde Oberschleißheim würde sich freuen, wenn das große Saubermachen in Feld und Flur von möglichst vielen Bürgerinnen und Bürgern unterstützt würde. | Treffpunkt ist um 9:30 Uhr am Bürgerzentrum. Die organisatorische Abwicklung, die Zuordnung der Sammelbereiche und Bereitstellung von Geräten erfolgt vor Ort. Gartenhandschuhe und Arbeitskleidung bitte mit\ningen. Fahrzeuge, zumindest Fahrräder, sind wegen der entfernten Lage mancher Einsatzgebiete erwünscht. Die Aktion findet nur bei Dauerregen oder Schnee nicht statt. Selbstverständlich gibt es im Anschluss eine zünftige Brotzeit für die kleinen und großen Helfer!  |   |  
LOCATION;CHARSET=UTF-8:
UID:f1e738406ec48f35259b06e8c0ce8b60-28553ca09f9b0bc44974aab1e82447df
PRIORITY:3
END:VEVENT
END:VCALENDAR