BEGIN:VCALENDAR
VERSION:1.0
PRODID:Open2CKalenderExportV11
BEGIN:VEVENT
DTSTAMP:20230207T101111Z
DTSTART:20230304T090000Z
DTEND:20230304T110000Z
CATEGORIES:Verschiedenes
SUMMARY;CHARSET=UTF-8:RamaDama am Mallertshofer See
DESCRIPTION;CHARSET=UTF-8:04.03.2023, 10.00h, Dauer ca. 2 Stunden, Werkzeug wird bereitgestellt. | Treffpunkt an der Schranke am Eingang zur Heide (Ecke B13/Staatsstraße nach Eching, gegenüber der Total-Tankstelle). | Organisator   Agenda 21 - PG Natur
LOCATION;CHARSET=UTF-8:Treffpunkt: an der Schranke am Eingang zur Heide (Ecke B13/Staatsstraße nach Eching, gegenüber der Total-Tankstelle).
UID:206b4a48862d297f85cfefd5e1dce20c-9c9e597eb3ea9a06bb9f0d2bc60a2d86
PRIORITY:3
END:VEVENT
END:VCALENDAR