BEGIN:VCALENDAR
VERSION:1.0
PRODID:Open2CKalenderExportV11
BEGIN:VEVENT
DTSTAMP:20220913T073425Z
DTSTART:20220917T080000Z
DTEND:20220917T080000Z
CATEGORIES:Verschiedenes
SUMMARY;CHARSET=UTF-8:30 Jahre Flugwerft Schleißheim
DESCRIPTION;CHARSET=UTF-8:Buntes Rahmenprogramm am 17. und 18. September 2022 zum 30 Jährigen Jubiläum der Flugwerft Schleißheim. |  | Erwachsene, Familie und Kinder, Jugendliche / junge Erwachsene | 17. September 2022, 10:00 Uhr bis 17:00 Uhr | 
LOCATION;CHARSET=UTF-8:
UID:7f7d16ec49a957e3207af0fd332066d7-e27e6c38204c24324bbcec1d28bd2bc6
PRIORITY:3
END:VEVENT
END:VCALENDAR