BEGIN:VCALENDAR
VERSION:1.0
PRODID:Open2CKalenderExportV11
BEGIN:VEVENT
DTSTAMP:20220225T121150Z
DTSTART:20220514T073000Z
DTEND:20220514T100000Z
CATEGORIES:Führungen
SUMMARY;CHARSET=UTF-8:Besichtigung Wasserwerk Schleißheim
DESCRIPTION;CHARSET=UTF-8:Woher kommt das gute Trinkwasser und was ist damit für ein personeller und technischer Aufwand verbunden? | Anmeldung bis 11.05.22 an arnold@tallavania.de erforderlich! | Gemeinsame Aktion mit Agenda 21 USH und BUND Naturschutz Schleißheim. | Organisator   Lokale Agenda 21 - Projektgruppe Natur, zusammen mit Lokale Agenda 21 Unterschleißheim und BUND Naturschutz Schleißheim | Kontakt   Anmeldung bis 11.05.22 an arnold@tallavania.de erforderlich!
LOCATION;CHARSET=UTF-8:Treffpunkt: Haupttor vor dem Wasserwerk, Berglwald, Wasserhausstraße
UID:7d2e1921f82170c77ba15510069c588b-fbd6bb5c50783d4af31ccbdec421f33a
PRIORITY:3
END:VEVENT
END:VCALENDAR