BEGIN:VCALENDAR
VERSION:1.0
PRODID:Open2CKalenderExportV11
BEGIN:VEVENT
DTSTAMP:20220131T142117Z
DTSTART:20221117T183000Z
DTEND:20221117T200000Z
CATEGORIES:Vorträge
SUMMARY;CHARSET=UTF-8:Vortrag: „Neue BEG-Förderung für Wohn- und Nichtwohngebäude“
DESCRIPTION;CHARSET=UTF-8:Folgende Themen werden im Vortrag erläutert: |   | -    Was ist BEG? | -    Neue Förderrichtlinie von KfW und Bafa | -    Förderprogramme Wohngebäude | -    Förderprogramme Nichtwohngebäude | -    Förderprogramme Einzelmaßnahmen |   | Referent: Dipl.-Ing. Tibor Szigeti, Ingenieurbüro S&amp;T, Energieeffizienzberater (www.st-energieberatung.de) | Organisator   Lokale Agenda 21 - Projektgruppe Energie und Klima | Kontakt   Anmeldung erforderlich!  | Tel.: (089) 3153806 oder www.vhsosh.de
LOCATION;CHARSET=UTF-8:VHS Oberschleißheim, Raum 3, Prof.-Otto-Hupp-Str. 26c
UID:29f3b428fe8f94414d06c8a62b5bf082-f38ee80cf8c27c5173d6578ad002a3b5
PRIORITY:3
END:VEVENT
END:VCALENDAR