BEGIN:VCALENDAR
VERSION:1.0
PRODID:Open2CKalenderExportV11
BEGIN:VEVENT
DTSTAMP:20220131T130232Z
DTSTART:20220203T183000Z
DTEND:20220203T200000Z
CATEGORIES:Vorträge
SUMMARY;CHARSET=UTF-8:Online-Vortrag: Resilienz und selbst erzeugte Energie im Hause vs. Blackout
DESCRIPTION;CHARSET=UTF-8:Trotz des hohen technischen Standards in Mitteleuropa sind auch bei uns großflächige und langanhaltende Stromausfälle möglich, die sog. Blackouts. Der Vortrag behandelt kostengünstige kleine Solarstromquellen bis hin zu großen PV-Anlagen mit Speichern, welche auch bei Stromausfall Energie liefern, um weiterhin elektrische Geräte im Haus zu betreiben, oder sogar nennenswerte Fahrleistungen mit Elektrofahrzeugen zu erzielen. Neben technischen Lösungen werden persönliche Vorkehrungen vorgestellt, um diese Ausnahmesituation sicher zu bewältigen. |   | Referent: Dipl.-Ing. Alfred Bäder | Organisator   Lokale Agenda 21 - Projektgruppe Energie und Klima | Kontakt   Telefon: 089/315 38 06 | www.vhsosh.de
LOCATION;CHARSET=UTF-8:Online-Vortrag! Anmeldung erforderlich!
UID:94f8f466064c7039b548ac4cd0b43ae3-658246da2a93d9f1f411b2dd82535d20
PRIORITY:3
END:VEVENT
END:VCALENDAR