BEGIN:VCALENDAR
VERSION:1.0
PRODID:Open2CKalenderExportV11
BEGIN:VEVENT
DTSTAMP:20220128T084026Z
DTSTART:20220515T120000Z
DTEND:20220515T120000Z
CATEGORIES:Führungen
SUMMARY;CHARSET=UTF-8:Wechselkröten-Exkursion mit Paul Eschbach
DESCRIPTION;CHARSET=UTF-8:
LOCATION;CHARSET=UTF-8:
UID:578a5d94a88327450da32a3b1bb0e4b6-98584c2c77d0df111c7bd0688a9ce63c
PRIORITY:3
END:VEVENT
END:VCALENDAR