BEGIN:VCALENDAR
VERSION:1.0
PRODID:Open2CKalenderExportV11
BEGIN:VEVENT
DTSTAMP:20211112T103025Z
DTSTART:20211114T230000Z
DTEND:20211127T230000Z
CATEGORIES:Verschiedenes
SUMMARY;CHARSET=UTF-8:Wärmewochen der Energieagentur
DESCRIPTION;CHARSET=UTF-8:Vom 15.11.21 bis zum 28.11.21 bietet die Energieagentur Ebersberg-München zahlreiche Online-Veranstaltungen. | Das komplette Programm können Sie hier a\nufen: Link | Organisator   Energieagentur Ebersberg-München
LOCATION;CHARSET=UTF-8:Online
UID:f52b086c6e78f2b5126b78d9c9a917d5-5616482fd3de5375a27ed045daec59b0
PRIORITY:3
END:VEVENT
END:VCALENDAR