BEGIN:VCALENDAR
VERSION:1.0
PRODID:Open2CKalenderExportV11
BEGIN:VEVENT
DTSTAMP:20220503T144314Z
DTSTART:20220529T173000Z
DTEND:20220529T173000Z
CATEGORIES:Konzerte allgemein
SUMMARY;CHARSET=UTF-8:Roland Hefter und die Isarrider / Sonntag, 29.05.2022, 19:30 Uhr
DESCRIPTION;CHARSET=UTF-8:Roland Hefter und die Band Isarrider im Festzelt Oberschleißheim auf dem Volksfestplatz.am 29.05.2022 |  Geschichten in mitreißende Lieder verpackt, direkt aus dem Leben, voller positiver Energie und bayrischer Lässigkeit, umgesetzt in klassischer Rock’n’Roll Besetzung mit zwei Gitarren (Roland Hefter / Wolfi Hierl), Bass (Erich Kogler), Schlagzeug (Babs Margeth) und Saxophon (Stephan Reiser). |  mehr zur Veranstaltung | Organisator   Gemeinde Oberschleißheim, Kulturteam | Kontakt   Organisation, Presse, Werbung | Gaby Hohenberger, gaby.hohenberger@t-online.de, Tel.: 089/ 3154175 | Tickets, Abendkasse, Homepage | Gaby Mohr, gm-kultur@gmx.net, Tel.: 015209889262 | Kulturteam Oberschleißheim | kultur@oberschleissheim.de
LOCATION;CHARSET=UTF-8:Festzelt, Volksfestplatz Ruffinistr. OSH
UID:33e0106a7a830dabc9a654ca765647d8-7a74b5457edcfdf59bb77fdcd4dfd085
PRIORITY:3
END:VEVENT
END:VCALENDAR